BEGIN:VCALENDAR
VERSION:2.0
PRODID:-//somerton.co.uk - ECPv5.12.2//NONSGML v1.0//EN
CALSCALE:GREGORIAN
METHOD:PUBLISH
X-WR-CALNAME:somerton.co.uk
X-ORIGINAL-URL:http://www.somerton.co.uk
X-WR-CALDESC:Events for somerton.co.uk
REFRESH-INTERVAL;VALUE=DURATION:PT1H
X-Robots-Tag:noindex
X-PUBLISHED-TTL:PT1H
BEGIN:VTIMEZONE
TZID:UTC
BEGIN:STANDARD
TZOFFSETFROM:+0000
TZOFFSETTO:+0000
TZNAME:UTC
DTSTART:20230101T000000
END:STANDARD
END:VTIMEZONE
BEGIN:VEVENT
DTSTART;TZID=UTC:20231106T110000
DTEND;TZID=UTC:20231106T110000
DTSTAMP:20260420T001614
CREATED:20231026T075055Z
LAST-MODIFIED:20231026T075143Z
UID:9070-1699268400-1699268400@www.somerton.co.uk
SUMMARY:Royal Air Forces Association Mid-Somerset Branch – Branch Meeting followed by a Optional Lunch
DESCRIPTION:The November Meeting will be a Presentation on “The Hungarian Army Air Corps” by Captain Erdesz followed by an optional lunch. “ \nThe Branch covers BS25\, BS26\, BS27\, BS28\, BA4\, BA5\, BA16\, TA10 & TA11 postal areas. These events are open to Members from any RAFA Branch\, Current and Ex-RAF Personnel and Reserves\, Current and Ex-Commonwealth Air Forces Personnel\, Members of the RAF Family and Members of the public that support the aims and purpose of RAFA. Please contact the Branch via e-mail  rafa.midsomerset@gmail.com  or tel to Secretary 01458-224057 for further information.”
URL:http://www.somerton.co.uk/event/royal-air-forces-association-mid-somerset-branch-branch-meeting-followed-by-a-optional-lunch/
LOCATION:The Bell Inn\, Bruton Road\, Evercreech\, Somerset\, BA4 6HY
END:VEVENT
END:VCALENDAR