BEGIN:VCALENDAR
VERSION:2.0
PRODID:-//somerton.co.uk - ECPv5.12.2//NONSGML v1.0//EN
CALSCALE:GREGORIAN
METHOD:PUBLISH
X-WR-CALNAME:somerton.co.uk
X-ORIGINAL-URL:https://www.somerton.co.uk
X-WR-CALDESC:Events for somerton.co.uk
REFRESH-INTERVAL;VALUE=DURATION:PT1H
X-Robots-Tag:noindex
X-PUBLISHED-TTL:PT1H
BEGIN:VTIMEZONE
TZID:UTC
BEGIN:STANDARD
TZOFFSETFROM:+0000
TZOFFSETTO:+0000
TZNAME:UTC
DTSTART:20240101T000000
END:STANDARD
END:VTIMEZONE
BEGIN:VEVENT
DTSTART;TZID=UTC:20240612T100000
DTEND;TZID=UTC:20240612T170000
DTSTAMP:20260420T144656
CREATED:20240411T160833Z
LAST-MODIFIED:20240411T160833Z
UID:9751-1718186400-1718211600@www.somerton.co.uk
SUMMARY:ACEarts Present The Red Dress
DESCRIPTION:THE RED DRESS will be at ACEarts from 1-29 June. ‘The Red Dress is a global collaborative embroidery project conceived by British artist Kirstie Macleod. 14 years in the making\, and involving 380 embroiderers from 51 different countries\, it seeks to connect individuals from all walks of life and provide a platform for women’s voices to be heard.’
URL:https://www.somerton.co.uk/event/acearts-present-the-red-dress/2024-06-12/
LOCATION:ACEarts\, The Old Town Hall\, Market Place\, Somerton\, Somerset\, TA11 7NB\, United Kingdom
END:VEVENT
BEGIN:VEVENT
DTSTART;TZID=UTC:20240612T193000
DTEND;TZID=UTC:20240612T193000
DTSTAMP:20260420T144656
CREATED:20230225T160605Z
LAST-MODIFIED:20240110T180603Z
UID:8340-1718220600-1718220600@www.somerton.co.uk
SUMMARY:Somerton Gardeners Club meeting
DESCRIPTION:Mike Follett “All about Fuschias” talk \nFor more information contact somertgardenersclub@gmail.com
URL:https://www.somerton.co.uk/event/somerton-gardeners-club-meeting-4/
LOCATION:St Cleers Chapel\, Polham Lane\, Somerton\, TA11 6SP\, United Kingdom
END:VEVENT
END:VCALENDAR