BEGIN:VCALENDAR
VERSION:2.0
PRODID:-//somerton.co.uk - ECPv5.12.2//NONSGML v1.0//EN
CALSCALE:GREGORIAN
METHOD:PUBLISH
X-WR-CALNAME:somerton.co.uk
X-ORIGINAL-URL:https://www.somerton.co.uk
X-WR-CALDESC:Events for somerton.co.uk
REFRESH-INTERVAL;VALUE=DURATION:PT1H
X-Robots-Tag:noindex
X-PUBLISHED-TTL:PT1H
BEGIN:VTIMEZONE
TZID:UTC
BEGIN:STANDARD
TZOFFSETFROM:+0000
TZOFFSETTO:+0000
TZNAME:UTC
DTSTART:20240101T000000
END:STANDARD
END:VTIMEZONE
BEGIN:VEVENT
DTSTART;TZID=UTC:20241205T113000
DTEND;TZID=UTC:20241205T113000
DTSTAMP:20260420T215020
CREATED:20220702T110813Z
LAST-MODIFIED:20220702T110813Z
UID:9208-1733398200-1733398200@www.somerton.co.uk
SUMMARY:Somerton Health Walks
DESCRIPTION:We meet 1st and 3rd Thursdays at Somerton Library at 11.30 am  for a social walk lasting about an hour. Please wear sensible footwear and clothing for the weather conditions as we may cross fields. For more information contact Mo Fletcher on 01458 274631
URL:https://www.somerton.co.uk/event/somerton-health-walks/2024-12-05/
LOCATION:Somerton Library\, Cox’s Yard Car Park\, Somerton\, Somerset\, TA11 7PR
END:VEVENT
END:VCALENDAR