BEGIN:VCALENDAR
VERSION:2.0
PRODID:-//somerton.co.uk - ECPv5.12.2//NONSGML v1.0//EN
CALSCALE:GREGORIAN
METHOD:PUBLISH
X-WR-CALNAME:somerton.co.uk
X-ORIGINAL-URL:https://www.somerton.co.uk
X-WR-CALDESC:Events for somerton.co.uk
REFRESH-INTERVAL;VALUE=DURATION:PT1H
X-Robots-Tag:noindex
X-PUBLISHED-TTL:PT1H
BEGIN:VTIMEZONE
TZID:UTC
BEGIN:STANDARD
TZOFFSETFROM:+0000
TZOFFSETTO:+0000
TZNAME:UTC
DTSTART:20250101T000000
END:STANDARD
END:VTIMEZONE
BEGIN:VEVENT
DTSTART;TZID=UTC:20250228T160000
DTEND;TZID=UTC:20250228T170000
DTSTAMP:20260420T142230
CREATED:20241030T170446Z
LAST-MODIFIED:20241030T172849Z
UID:10216-1740758400-1740762000@www.somerton.co.uk
SUMMARY:Somerset Youth Theatre meeting for 6 to 11 years
DESCRIPTION:Somerset Youth Theatre. for 6 to 11 years. A safe place to create\, explore and find your voice through Theatre and the Arts.\n\nThose interested can book a free trial session We run a pay what you choose system with funded places for those on free school meals and there are sibling discounts available.\nTo get in touch email Ruth info@somersetyt.com
URL:https://www.somerton.co.uk/event/somerset-youth-theatre-meeting/2025-02-28/
LOCATION:All Saints Hall\, 2 North Street\, Langport\, TA10 9RQ
END:VEVENT
BEGIN:VEVENT
DTSTART;TZID=UTC:20250228T170000
DTEND;TZID=UTC:20250228T180000
DTSTAMP:20260420T142230
CREATED:20241030T172553Z
LAST-MODIFIED:20241030T172711Z
UID:10269-1740762000-1740765600@www.somerton.co.uk
SUMMARY:Somerset Youth Theatre meeting for 11 to 18 years
DESCRIPTION:Somerset Youth Theatre. for 11 to 18 years. A safe place to create\, explore and find your voice through Theatre and the Arts.\n\nThose interested can book a free trial session We run a pay what you choose system with funded places for those on free school meals and there are sibling discounts available.\nTo get in touch email Ruth info@somersetyt.com
URL:https://www.somerton.co.uk/event/somerset-youth-theatre-meeting-2/2025-02-28/
LOCATION:Somerset
END:VEVENT
END:VCALENDAR