BEGIN:VCALENDAR
VERSION:2.0
PRODID:-//somerton.co.uk - ECPv5.12.2//NONSGML v1.0//EN
CALSCALE:GREGORIAN
METHOD:PUBLISH
X-WR-CALNAME:somerton.co.uk
X-ORIGINAL-URL:https://www.somerton.co.uk
X-WR-CALDESC:Events for somerton.co.uk
REFRESH-INTERVAL;VALUE=DURATION:PT1H
X-Robots-Tag:noindex
X-PUBLISHED-TTL:PT1H
BEGIN:VTIMEZONE
TZID:UTC
BEGIN:STANDARD
TZOFFSETFROM:+0000
TZOFFSETTO:+0000
TZNAME:UTC
DTSTART:20250101T000000
END:STANDARD
END:VTIMEZONE
BEGIN:VEVENT
DTSTART;TZID=UTC:20250527T140000
DTEND;TZID=UTC:20250527T170000
DTSTAMP:20260420T083246
CREATED:20250422T145435Z
LAST-MODIFIED:20250422T145940Z
UID:10581-1748354400-1748365200@www.somerton.co.uk
SUMMARY:Display of craft work produced by the Somerton Knit and Natter Group – Part of the Somerton Music and Arts Festival
DESCRIPTION:Display of craft work produced by the Somerton Knit and Natter Group \nFree admission
URL:https://www.somerton.co.uk/event/display-of-craft-work-produced-by-the-somerton-knit-and-natter-group-part-of-the-somerton-music-and-arts-festival/2025-05-27/
LOCATION:Somerton Library\, Cox’s Yard Car Park\, Somerton\, Somerset\, TA11 7PR
END:VEVENT
END:VCALENDAR