BEGIN:VCALENDAR
VERSION:2.0
PRODID:-//somerton.co.uk - ECPv5.12.2//NONSGML v1.0//EN
CALSCALE:GREGORIAN
METHOD:PUBLISH
X-WR-CALNAME:somerton.co.uk
X-ORIGINAL-URL:https://www.somerton.co.uk
X-WR-CALDESC:Events for somerton.co.uk
REFRESH-INTERVAL;VALUE=DURATION:PT1H
X-Robots-Tag:noindex
X-PUBLISHED-TTL:PT1H
BEGIN:VTIMEZONE
TZID:UTC
BEGIN:STANDARD
TZOFFSETFROM:+0000
TZOFFSETTO:+0000
TZNAME:UTC
DTSTART:20250101T000000
END:STANDARD
END:VTIMEZONE
BEGIN:VEVENT
DTSTART;TZID=UTC:20250203T110000
DTEND;TZID=UTC:20250203T110000
DTSTAMP:20260420T173756
CREATED:20250113T124154Z
LAST-MODIFIED:20250113T124154Z
UID:10405-1738580400-1738580400@www.somerton.co.uk
SUMMARY:ROYAL AIR FORCES ASSOCIATION MID-SOMERSET BRANCH MEETING
DESCRIPTION:RAFA-MSB Branch Meeting\nThere will be a Presentation by Roger Cowie “From Russia with Love” followed by a presentation of the latest 2025 Branch programme and preparation for the Branch AGM on Monday 3rd March; as normal this will be followed by optional Lunch & Drinks from the Club Menu & Bar.” \nRAFA-MSB covers BS25\, BS26\, BS27\, BS28\, BA4\, BA5\, BA6\, BA16\, TA10 & TA11 postal areas. RAFA Members\, Current and Ex-RAF Personnel and Reserves\, Current and Ex-Commonwealth Air Forces Personnel\, Members of the RAF Family and Members of the public that support RAFA aims & purpose are welcome. Please contact the Branch via e-mail  rafa.midsomerset@gmail.com  or tel to Secretary 01458-224057 for further information.”
URL:https://www.somerton.co.uk/event/royal-air-forces-association-mid-somerset-branch-meeting-4/
LOCATION:Wells Golf Club\, Blackheath Lane\, Wells\, BA5 3DS\, United Kingdom
END:VEVENT
BEGIN:VEVENT
DTSTART;TZID=UTC:20250204T172500
DTEND;TZID=UTC:20250204T172500
DTSTAMP:20260420T173756
CREATED:20231101T172100Z
LAST-MODIFIED:20231101T172100Z
UID:9097-1738689900-1738689900@www.somerton.co.uk
SUMMARY:British Red Cross Theatre Trip to Bristol Hippodrome - Only Fools and Horses
DESCRIPTION:British Red Cross Theatre Trip to Bristol Hippodrome – Come From Away – Cost £61.00/£71.00. For information phone Chris Cox 01458 273085
URL:https://www.somerton.co.uk/event/british-red-cross-theatre-trip-to-bristol-hippodrome-only-fools-and-horses/
LOCATION:Half Moon Car Park\, Half Moon Car Park\, Somerton\, TA11
END:VEVENT
BEGIN:VEVENT
DTSTART;TZID=UTC:20250207T160000
DTEND;TZID=UTC:20250207T170000
DTSTAMP:20260420T173756
CREATED:20241030T170446Z
LAST-MODIFIED:20241030T172848Z
UID:10213-1738944000-1738947600@www.somerton.co.uk
SUMMARY:Somerset Youth Theatre meeting for 6 to 11 years
DESCRIPTION:Somerset Youth Theatre. for 6 to 11 years. A safe place to create\, explore and find your voice through Theatre and the Arts.\n\nThose interested can book a free trial session We run a pay what you choose system with funded places for those on free school meals and there are sibling discounts available.\nTo get in touch email Ruth info@somersetyt.com
URL:https://www.somerton.co.uk/event/somerset-youth-theatre-meeting/2025-02-07/
LOCATION:All Saints Hall\, 2 North Street\, Langport\, TA10 9RQ
END:VEVENT
BEGIN:VEVENT
DTSTART;TZID=UTC:20250207T170000
DTEND;TZID=UTC:20250207T180000
DTSTAMP:20260420T173756
CREATED:20241030T172553Z
LAST-MODIFIED:20241030T172710Z
UID:10267-1738947600-1738951200@www.somerton.co.uk
SUMMARY:Somerset Youth Theatre meeting for 11 to 18 years
DESCRIPTION:Somerset Youth Theatre. for 11 to 18 years. A safe place to create\, explore and find your voice through Theatre and the Arts.\n\nThose interested can book a free trial session We run a pay what you choose system with funded places for those on free school meals and there are sibling discounts available.\nTo get in touch email Ruth info@somersetyt.com
URL:https://www.somerton.co.uk/event/somerset-youth-theatre-meeting-2/2025-02-07/
LOCATION:Somerset
END:VEVENT
BEGIN:VEVENT
DTSTART;TZID=UTC:20250208T093000
DTEND;TZID=UTC:20250208T170000
DTSTAMP:20260420T173756
CREATED:20250104T095012Z
LAST-MODIFIED:20250104T095012Z
UID:10400-1739007000-1739034000@www.somerton.co.uk
SUMMARY:Come and Sing Day including choruses from Haydn's Creation with Mid Wessex Singers
DESCRIPTION:Somerton’s choir\, the Mid Wessex Singers\, are holding a Come and Sing Day including choruses from Haydn’s Creation at Long Sutton Village Hall on Saturday February 8th. Details from Steph Taylor by e-mail on info@midwessexsingers.co.uk through the website at www.midwessexsingers.co.uk or on 07502 280596.
URL:https://www.somerton.co.uk/event/come-and-sing-day-including-choruses-from-haydns-creation-with-mid-wessex-singers/
LOCATION:Long Sutton Village Hall\, Martock Road\, Long Sutton\, Somerset\, TA10 9NT\, United Kingdom
END:VEVENT
END:VCALENDAR