BEGIN:VCALENDAR
VERSION:2.0
PRODID:-//somerton.co.uk - ECPv5.12.2//NONSGML v1.0//EN
CALSCALE:GREGORIAN
METHOD:PUBLISH
X-WR-CALNAME:somerton.co.uk
X-ORIGINAL-URL:https://www.somerton.co.uk
X-WR-CALDESC:Events for somerton.co.uk
REFRESH-INTERVAL;VALUE=DURATION:PT1H
X-Robots-Tag:noindex
X-PUBLISHED-TTL:PT1H
BEGIN:VTIMEZONE
TZID:UTC
BEGIN:STANDARD
TZOFFSETFROM:+0000
TZOFFSETTO:+0000
TZNAME:UTC
DTSTART:20260101T000000
END:STANDARD
END:VTIMEZONE
BEGIN:VEVENT
DTSTART;TZID=UTC:20260420T090000
DTEND;TZID=UTC:20260420T120000
DTSTAMP:20260420T125239
CREATED:20250203T172724Z
LAST-MODIFIED:20250203T172938Z
UID:10445-1776675600-1776686400@www.somerton.co.uk
SUMMARY:Somerton Town Council Drop In Surgery
DESCRIPTION:The Somerton Town Council Drop In Surgeries will be held at the Library on the 3rd Monday of the month from 9.00 to 12.00. \nSomerton Town Council Drop In Surgery. This is an opportunity for residents to have an informal chat with a Councillor\, ask a question\, raise a concern\, or share an idea. \nWe are here to listen
URL:https://www.somerton.co.uk/event/10431/2026-04-20/
LOCATION:Somerton Library\, Cox’s Yard Car Park\, Somerton\, Somerset\, TA11 7PR
END:VEVENT
BEGIN:VEVENT
DTSTART;TZID=UTC:20260425T193000
DTEND;TZID=UTC:20260425T193000
DTSTAMP:20260420T125239
CREATED:20260413T131553Z
LAST-MODIFIED:20260413T131553Z
UID:11205-1777145400-1777145400@www.somerton.co.uk
SUMMARY:A Night of Rock Legends with the Chris Slade Timeline - Part of the Somerton Music and Arts Festival
DESCRIPTION:Fronted by one of rock music’s most respected drummers\, this electrifying show celebrates the iconic songs and artists Chris Slade has worked with across a remarkable career — including AC/DC\, The Manfreds\, Asia\, Tom Jones\, and many more. \nThe Chris Slade Timeline is a touring band led by the legendary drummer that celebrates his 50+ year career\, playing hits from all the major bands he’s worked with\, alongside original material. Formed in 2012\, the band features Slade on drums\, showcasing his extensive rock history\, along with Paul “Bun” Davies leading the vocals\, James Cornford on lead guitar\, Michael J Clark on keyboards\, rhythm guitar and Andy Crosby on bass. \nTheir show takes fans on a journey through his iconic musical journey through decades of rock history\, packed with instantly recognisable anthems\, driving rhythms and world-class musicianship — all delivered with the energy and authenticity you’d expect from someone who’s lived it. \nWhether you’re a lifelong rock fan or simply love a great live music experience\, this is a night not to be missed — and a thrilling addition to the Music at St Michael’s concert series. \nAs usual\, there will be a full bar in the church both before the show and during the interval \nTime: Door 6.30pm Starts 7.30pm \nTicket Price: £23.00 Tickets are also available to purchase from Stationery House\, or https://somertonartsfestival.co.uk/events/chrisslade 
URL:https://www.somerton.co.uk/event/a-night-of-rock-legends-with-the-chris-slade-timeline-part-of-the-somerton-music-and-arts-festival/
LOCATION:St Michael & All Angels Church\, Market Place\, Somerton\, Somerset\, TA11 7NB\, United Kingdom
END:VEVENT
BEGIN:VEVENT
DTSTART;TZID=UTC:20260426T193000
DTEND;TZID=UTC:20260426T193000
DTSTAMP:20260420T125239
CREATED:20260401T080527Z
LAST-MODIFIED:20260401T080622Z
UID:11180-1777231800-1777231800@www.somerton.co.uk
SUMMARY:Quiz Night
DESCRIPTION:Quiz Night. Teams of up to six people can take part. \nEntry £2.00 per person
URL:https://www.somerton.co.uk/event/quiz-night/2026-04-26/
LOCATION:The Club @ Somerton\, Gassons Lane\, Somerton\, Somerset\, TA11 6HS\, United Kingdom
END:VEVENT
END:VCALENDAR