BEGIN:VCALENDAR
VERSION:2.0
PRODID:-//somerton.co.uk - ECPv5.12.2//NONSGML v1.0//EN
CALSCALE:GREGORIAN
METHOD:PUBLISH
X-WR-CALNAME:somerton.co.uk
X-ORIGINAL-URL:https://www.somerton.co.uk
X-WR-CALDESC:Events for somerton.co.uk
REFRESH-INTERVAL;VALUE=DURATION:PT1H
X-Robots-Tag:noindex
X-PUBLISHED-TTL:PT1H
BEGIN:VTIMEZONE
TZID:UTC
BEGIN:STANDARD
TZOFFSETFROM:+0000
TZOFFSETTO:+0000
TZNAME:UTC
DTSTART:20260101T000000
END:STANDARD
END:VTIMEZONE
BEGIN:VEVENT
DTSTART;TZID=UTC:20260426T193000
DTEND;TZID=UTC:20260426T193000
DTSTAMP:20260420T083207
CREATED:20260401T080527Z
LAST-MODIFIED:20260401T080622Z
UID:11180-1777231800-1777231800@www.somerton.co.uk
SUMMARY:Quiz Night
DESCRIPTION:Quiz Night. Teams of up to six people can take part. \nEntry £2.00 per person
URL:https://www.somerton.co.uk/event/quiz-night/2026-04-26/
LOCATION:The Club @ Somerton\, Gassons Lane\, Somerton\, Somerset\, TA11 6HS\, United Kingdom
END:VEVENT
END:VCALENDAR